BEGIN:VCALENDAR
VERSION:2.0
PRODID:-//Parsons Public Library - ECPv6.15.20//NONSGML v1.0//EN
CALSCALE:GREGORIAN
METHOD:PUBLISH
X-ORIGINAL-URL:https://parsonslibrary.org
X-WR-CALDESC:Events for Parsons Public Library
REFRESH-INTERVAL;VALUE=DURATION:PT1H
X-Robots-Tag:noindex
X-PUBLISHED-TTL:PT1H
BEGIN:VTIMEZONE
TZID:America/Chicago
BEGIN:DAYLIGHT
TZOFFSETFROM:-0600
TZOFFSETTO:-0500
TZNAME:CDT
DTSTART:20240310T080000
END:DAYLIGHT
BEGIN:STANDARD
TZOFFSETFROM:-0500
TZOFFSETTO:-0600
TZNAME:CST
DTSTART:20241103T070000
END:STANDARD
BEGIN:DAYLIGHT
TZOFFSETFROM:-0600
TZOFFSETTO:-0500
TZNAME:CDT
DTSTART:20250309T080000
END:DAYLIGHT
BEGIN:STANDARD
TZOFFSETFROM:-0500
TZOFFSETTO:-0600
TZNAME:CST
DTSTART:20251102T070000
END:STANDARD
BEGIN:DAYLIGHT
TZOFFSETFROM:-0600
TZOFFSETTO:-0500
TZNAME:CDT
DTSTART:20260308T080000
END:DAYLIGHT
BEGIN:STANDARD
TZOFFSETFROM:-0500
TZOFFSETTO:-0600
TZNAME:CST
DTSTART:20261101T070000
END:STANDARD
BEGIN:DAYLIGHT
TZOFFSETFROM:-0600
TZOFFSETTO:-0500
TZNAME:CDT
DTSTART:20270314T080000
END:DAYLIGHT
BEGIN:STANDARD
TZOFFSETFROM:-0500
TZOFFSETTO:-0600
TZNAME:CST
DTSTART:20271107T070000
END:STANDARD
END:VTIMEZONE
BEGIN:VEVENT
DTSTART;TZID=America/Chicago:20250707T180000
DTEND;TZID=America/Chicago:20250707T190000
DTSTAMP:20260419T124613
CREATED:20250527T212242Z
LAST-MODIFIED:20250527T212242Z
UID:1236-1751911200-1751914800@parsonslibrary.org
SUMMARY:Paint N' Sip
DESCRIPTION:Come Paint N’ Sip (Lemonade) outside.
URL:https://parsonslibrary.org/event/paint-n-sip-2/
LOCATION:Parsons Public Library\, 311 S 17th St\, Parsons\, Kansas\, 67357\, United States
ORGANIZER;CN="Parsons Public Library":MAILTO:staff@parsonslibrary.org
END:VEVENT
BEGIN:VEVENT
DTSTART;TZID=America/Chicago:20250709T160000
DTEND;TZID=America/Chicago:20250709T170000
DTSTAMP:20260419T124613
CREATED:20250624T153157Z
LAST-MODIFIED:20250624T153506Z
UID:1423-1752076800-1752080400@parsonslibrary.org
SUMMARY:Junk Journal (All Ages)
DESCRIPTION:
URL:https://parsonslibrary.org/event/junk-journal-all-ages/
LOCATION:Parsons Public Library\, 311 S 17th St\, Parsons\, Kansas\, 67357\, United States
ORGANIZER;CN="Parsons Public Library":MAILTO:staff@parsonslibrary.org
END:VEVENT
BEGIN:VEVENT
DTSTART;TZID=America/Chicago:20250709T160000
DTEND;TZID=America/Chicago:20250709T173000
DTSTAMP:20260419T124613
CREATED:20250528T155059Z
LAST-MODIFIED:20250528T155059Z
UID:1269-1752076800-1752082200@parsonslibrary.org
SUMMARY:Galaxy Painting
DESCRIPTION:Let’s paint a galaxy with spray paint.
URL:https://parsonslibrary.org/event/galaxy-painting/
LOCATION:Parsons Public Library\, 311 S 17th St\, Parsons\, Kansas\, 67357\, United States
ORGANIZER;CN="Parsons Public Library":MAILTO:staff@parsonslibrary.org
END:VEVENT
BEGIN:VEVENT
DTSTART;TZID=America/Chicago:20250710T100000
DTEND;TZID=America/Chicago:20250710T110000
DTSTAMP:20260419T124613
CREATED:20250523T222308Z
LAST-MODIFIED:20250527T213221Z
UID:1229-1752141600-1752145200@parsonslibrary.org
SUMMARY:Sip and Paint for Children ( 6 - 10 )
DESCRIPTION:Come Sip (Lemonade) and Paint.
URL:https://parsonslibrary.org/event/paint-n-sip/
LOCATION:Parsons Public Library\, 311 S 17th St\, Parsons\, Kansas\, 67357\, United States
ORGANIZER;CN="Parsons Public Library":MAILTO:staff@parsonslibrary.org
END:VEVENT
BEGIN:VEVENT
DTSTART;TZID=America/Chicago:20250715T160000
DTEND;TZID=America/Chicago:20250715T170000
DTSTAMP:20260419T124613
CREATED:20250527T213504Z
LAST-MODIFIED:20250527T213529Z
UID:1242-1752595200-1752598800@parsonslibrary.org
SUMMARY:Sea Shell Candle
DESCRIPTION:Make Candles with us.
URL:https://parsonslibrary.org/event/sea-shell-candle/
LOCATION:Parsons Public Library\, 311 S 17th St\, Parsons\, Kansas\, 67357\, United States
ORGANIZER;CN="Parsons Public Library":MAILTO:staff@parsonslibrary.org
END:VEVENT
BEGIN:VEVENT
DTSTART;TZID=America/Chicago:20250716T160000
DTEND;TZID=America/Chicago:20250716T173000
DTSTAMP:20260419T124613
CREATED:20250528T155338Z
LAST-MODIFIED:20250528T155338Z
UID:1273-1752681600-1752687000@parsonslibrary.org
SUMMARY:Tissue Paper Art
DESCRIPTION:
URL:https://parsonslibrary.org/event/tissue-paper-art/
LOCATION:Parsons Public Library\, 311 S 17th St\, Parsons\, Kansas\, 67357\, United States
ORGANIZER;CN="Parsons Public Library":MAILTO:staff@parsonslibrary.org
END:VEVENT
BEGIN:VEVENT
DTSTART;TZID=America/Chicago:20250717T100000
DTEND;TZID=America/Chicago:20250717T110000
DTSTAMP:20260419T124613
CREATED:20250527T215552Z
LAST-MODIFIED:20250527T215552Z
UID:1246-1752746400-1752750000@parsonslibrary.org
SUMMARY:Color-Changing Slime ( 6 - 10 )
DESCRIPTION:Make some color-changing slime!
URL:https://parsonslibrary.org/event/color-changing-slime-6-10/
LOCATION:Parsons Public Library\, 311 S 17th St\, Parsons\, Kansas\, 67357\, United States
ORGANIZER;CN="Parsons Public Library":MAILTO:staff@parsonslibrary.org
END:VEVENT
BEGIN:VEVENT
DTSTART;TZID=America/Chicago:20250718T160000
DTEND;TZID=America/Chicago:20250718T170000
DTSTAMP:20260419T124613
CREATED:20250604T153609Z
LAST-MODIFIED:20250604T153609Z
UID:1280-1752854400-1752858000@parsonslibrary.org
SUMMARY:CD Painting
DESCRIPTION:
URL:https://parsonslibrary.org/event/cd-painting/
LOCATION:Parsons Public Library\, 311 S 17th St\, Parsons\, Kansas\, 67357\, United States
ORGANIZER;CN="Parsons Public Library":MAILTO:staff@parsonslibrary.org
END:VEVENT
BEGIN:VEVENT
DTSTART;TZID=America/Chicago:20250722T160000
DTEND;TZID=America/Chicago:20250722T170000
DTSTAMP:20260419T124613
CREATED:20250527T215944Z
LAST-MODIFIED:20250721T200821Z
UID:1251-1753200000-1753203600@parsonslibrary.org
SUMMARY:Nailed It! ( 2 - 10)
DESCRIPTION:Come make some cookies\, Nailed It! style.
URL:https://parsonslibrary.org/event/nailed-it-2-10/
LOCATION:Parsons Public Library\, 311 S 17th St\, Parsons\, Kansas\, 67357\, United States
ORGANIZER;CN="Parsons Public Library":MAILTO:staff@parsonslibrary.org
END:VEVENT
BEGIN:VEVENT
DTSTART;TZID=America/Chicago:20250724T100000
DTEND;TZID=America/Chicago:20250724T110000
DTSTAMP:20260419T124613
CREATED:20250527T220154Z
LAST-MODIFIED:20250527T220416Z
UID:1254-1753351200-1753354800@parsonslibrary.org
SUMMARY:Ping-Pong Ball Lantern ( 6 - 10 )
DESCRIPTION:
URL:https://parsonslibrary.org/event/ping-pong-ball-lantern-6-10/
LOCATION:Parsons Public Library\, 311 S 17th St\, Parsons\, Kansas\, 67357\, United States
ORGANIZER;CN="Parsons Public Library":MAILTO:staff@parsonslibrary.org
END:VEVENT
BEGIN:VEVENT
DTSTART;TZID=America/Chicago:20250728T160000
DTEND;TZID=America/Chicago:20250728T170000
DTSTAMP:20260419T124613
CREATED:20250624T153411Z
LAST-MODIFIED:20250624T153411Z
UID:1426-1753718400-1753722000@parsonslibrary.org
SUMMARY:Jewelry Making Craft (All Ages)
DESCRIPTION:
URL:https://parsonslibrary.org/event/jewelry-making-craft-all-ages/
LOCATION:Parsons Public Library\, 311 S 17th St\, Parsons\, Kansas\, 67357\, United States
ORGANIZER;CN="Parsons Public Library":MAILTO:staff@parsonslibrary.org
END:VEVENT
BEGIN:VEVENT
DTSTART;TZID=America/Chicago:20250731T100000
DTEND;TZID=America/Chicago:20250731T110000
DTSTAMP:20260419T124613
CREATED:20250527T220338Z
LAST-MODIFIED:20250527T220338Z
UID:1257-1753956000-1753959600@parsonslibrary.org
SUMMARY:Scupltable Sand ( 6 - 10 )
DESCRIPTION:
URL:https://parsonslibrary.org/event/scupltable-sand-6-10/
LOCATION:Parsons Public Library\, 311 S 17th St\, Parsons\, Kansas\, 67357\, United States
ORGANIZER;CN="Parsons Public Library":MAILTO:staff@parsonslibrary.org
END:VEVENT
BEGIN:VEVENT
DTSTART;TZID=America/Chicago:20250805T100000
DTEND;TZID=America/Chicago:20250805T110000
DTSTAMP:20260419T124613
CREATED:20250604T154044Z
LAST-MODIFIED:20250604T154306Z
UID:1325-1754388000-1754391600@parsonslibrary.org
SUMMARY:Tea with T-Rex Ages 3-9
DESCRIPTION:
URL:https://parsonslibrary.org/event/tea-with-t-rex/
LOCATION:Parsons Public Library\, 311 S 17th St\, Parsons\, Kansas\, 67357\, United States
ORGANIZER;CN="Parsons Public Library":MAILTO:staff@parsonslibrary.org
END:VEVENT
BEGIN:VEVENT
DTSTART;TZID=America/Chicago:20250806T100000
DTEND;TZID=America/Chicago:20250806T110000
DTSTAMP:20260419T124613
CREATED:20250604T154241Z
LAST-MODIFIED:20250604T154241Z
UID:1328-1754474400-1754478000@parsonslibrary.org
SUMMARY:Tea with T-Rex Ages 3-9
DESCRIPTION:
URL:https://parsonslibrary.org/event/tea-with-t-rex-ages-3-9/
LOCATION:Parsons Public Library\, 311 S 17th St\, Parsons\, Kansas\, 67357\, United States
ORGANIZER;CN="Parsons Public Library":MAILTO:staff@parsonslibrary.org
END:VEVENT
BEGIN:VEVENT
DTSTART;TZID=America/Chicago:20251119T160000
DTEND;TZID=America/Chicago:20251119T173000
DTSTAMP:20260419T124613
CREATED:20251112T162212Z
LAST-MODIFIED:20251112T162212Z
UID:1705-1763568000-1763573400@parsonslibrary.org
SUMMARY:The Ember Games (Roblox Tournament)
DESCRIPTION:
URL:https://parsonslibrary.org/event/the-ember-games-roblox-tournament/
END:VEVENT
BEGIN:VEVENT
DTSTART;TZID=America/Chicago:20251125T180000
DTEND;TZID=America/Chicago:20251125T190000
DTSTAMP:20260419T124613
CREATED:20251027T213758Z
LAST-MODIFIED:20251027T213758Z
UID:1689-1764093600-1764097200@parsonslibrary.org
SUMMARY:Let's Crisp!
DESCRIPTION:Join us to make apple crisps. Limited space\, sign up required.
URL:https://parsonslibrary.org/event/lets-crisp/
END:VEVENT
BEGIN:VEVENT
DTSTART;TZID=America/Chicago:20251211T110000
DTEND;TZID=America/Chicago:20251211T130000
DTSTAMP:20260419T124613
CREATED:20251119T172759Z
LAST-MODIFIED:20251119T172759Z
UID:1729-1765450800-1765458000@parsonslibrary.org
SUMMARY:Eat\, Read\, and Be Merry
DESCRIPTION:
URL:https://parsonslibrary.org/event/eat-read-and-be-merry/
END:VEVENT
BEGIN:VEVENT
DTSTART;TZID=America/Chicago:20260316T160000
DTEND;TZID=America/Chicago:20260316T173000
DTSTAMP:20260419T124613
CREATED:20250919T163321Z
LAST-MODIFIED:20260316T202139Z
UID:1675-1773676800-1773682200@parsonslibrary.org
SUMMARY:Candle Making for Teens (Ages 10 - 18)
DESCRIPTION:Let’s make some candles!
URL:https://parsonslibrary.org/event/candle-making-for-teens-ages-10-18/
END:VEVENT
END:VCALENDAR