BEGIN:VCALENDAR
VERSION:2.0
PRODID:-//Parsons Public Library - ECPv6.15.20//NONSGML v1.0//EN
CALSCALE:GREGORIAN
METHOD:PUBLISH
X-ORIGINAL-URL:https://parsonslibrary.org
X-WR-CALDESC:Events for Parsons Public Library
REFRESH-INTERVAL;VALUE=DURATION:PT1H
X-Robots-Tag:noindex
X-PUBLISHED-TTL:PT1H
BEGIN:VTIMEZONE
TZID:America/Chicago
BEGIN:DAYLIGHT
TZOFFSETFROM:-0600
TZOFFSETTO:-0500
TZNAME:CDT
DTSTART:20240310T080000
END:DAYLIGHT
BEGIN:STANDARD
TZOFFSETFROM:-0500
TZOFFSETTO:-0600
TZNAME:CST
DTSTART:20241103T070000
END:STANDARD
BEGIN:DAYLIGHT
TZOFFSETFROM:-0600
TZOFFSETTO:-0500
TZNAME:CDT
DTSTART:20250309T080000
END:DAYLIGHT
BEGIN:STANDARD
TZOFFSETFROM:-0500
TZOFFSETTO:-0600
TZNAME:CST
DTSTART:20251102T070000
END:STANDARD
BEGIN:DAYLIGHT
TZOFFSETFROM:-0600
TZOFFSETTO:-0500
TZNAME:CDT
DTSTART:20260308T080000
END:DAYLIGHT
BEGIN:STANDARD
TZOFFSETFROM:-0500
TZOFFSETTO:-0600
TZNAME:CST
DTSTART:20261101T070000
END:STANDARD
BEGIN:DAYLIGHT
TZOFFSETFROM:-0600
TZOFFSETTO:-0500
TZNAME:CDT
DTSTART:20270314T080000
END:DAYLIGHT
BEGIN:STANDARD
TZOFFSETFROM:-0500
TZOFFSETTO:-0600
TZNAME:CST
DTSTART:20271107T070000
END:STANDARD
END:VTIMEZONE
BEGIN:VEVENT
DTSTART;TZID=America/Chicago:20251119T160000
DTEND;TZID=America/Chicago:20251119T173000
DTSTAMP:20260419T145755
CREATED:20251112T162212Z
LAST-MODIFIED:20251112T162212Z
UID:1705-1763568000-1763573400@parsonslibrary.org
SUMMARY:The Ember Games (Roblox Tournament)
DESCRIPTION:
URL:https://parsonslibrary.org/event/the-ember-games-roblox-tournament/
END:VEVENT
BEGIN:VEVENT
DTSTART;TZID=America/Chicago:20251125T180000
DTEND;TZID=America/Chicago:20251125T190000
DTSTAMP:20260419T145755
CREATED:20251027T213758Z
LAST-MODIFIED:20251027T213758Z
UID:1689-1764093600-1764097200@parsonslibrary.org
SUMMARY:Let's Crisp!
DESCRIPTION:Join us to make apple crisps. Limited space\, sign up required.
URL:https://parsonslibrary.org/event/lets-crisp/
END:VEVENT
BEGIN:VEVENT
DTSTART;TZID=America/Chicago:20251211T110000
DTEND;TZID=America/Chicago:20251211T130000
DTSTAMP:20260419T145755
CREATED:20251119T172759Z
LAST-MODIFIED:20251119T172759Z
UID:1729-1765450800-1765458000@parsonslibrary.org
SUMMARY:Eat\, Read\, and Be Merry
DESCRIPTION:
URL:https://parsonslibrary.org/event/eat-read-and-be-merry/
END:VEVENT
BEGIN:VEVENT
DTSTART;TZID=America/Chicago:20260316T160000
DTEND;TZID=America/Chicago:20260316T173000
DTSTAMP:20260419T145755
CREATED:20250919T163321Z
LAST-MODIFIED:20260316T202139Z
UID:1675-1773676800-1773682200@parsonslibrary.org
SUMMARY:Candle Making for Teens (Ages 10 - 18)
DESCRIPTION:Let’s make some candles!
URL:https://parsonslibrary.org/event/candle-making-for-teens-ages-10-18/
END:VEVENT
END:VCALENDAR